BEGIN:VCALENDAR
VERSION:2.0
PRODID:-//Clayton Golf Club - ECPv6.15.18//NONSGML v1.0//EN
CALSCALE:GREGORIAN
METHOD:PUBLISH
X-WR-CALNAME:Clayton Golf Club
X-ORIGINAL-URL:https://www.claytongolfnm.com
X-WR-CALDESC:Events for Clayton Golf Club
REFRESH-INTERVAL;VALUE=DURATION:PT1H
X-Robots-Tag:noindex
X-PUBLISHED-TTL:PT1H
BEGIN:VTIMEZONE
TZID:UTC
BEGIN:STANDARD
TZOFFSETFROM:+0000
TZOFFSETTO:+0000
TZNAME:UTC
DTSTART:20250101T000000
END:STANDARD
END:VTIMEZONE
BEGIN:VTIMEZONE
TZID:America/Denver
BEGIN:DAYLIGHT
TZOFFSETFROM:-0700
TZOFFSETTO:-0600
TZNAME:MDT
DTSTART:20250309T090000
END:DAYLIGHT
BEGIN:STANDARD
TZOFFSETFROM:-0600
TZOFFSETTO:-0700
TZNAME:MST
DTSTART:20251102T080000
END:STANDARD
BEGIN:DAYLIGHT
TZOFFSETFROM:-0700
TZOFFSETTO:-0600
TZNAME:MDT
DTSTART:20260308T090000
END:DAYLIGHT
BEGIN:STANDARD
TZOFFSETFROM:-0600
TZOFFSETTO:-0700
TZNAME:MST
DTSTART:20261101T080000
END:STANDARD
BEGIN:DAYLIGHT
TZOFFSETFROM:-0700
TZOFFSETTO:-0600
TZNAME:MDT
DTSTART:20270314T090000
END:DAYLIGHT
BEGIN:STANDARD
TZOFFSETFROM:-0600
TZOFFSETTO:-0700
TZNAME:MST
DTSTART:20271107T080000
END:STANDARD
END:VTIMEZONE
BEGIN:VEVENT
DTSTART;TZID=UTC:20260516T180000
DTEND;TZID=UTC:20260516T230000
DTSTAMP:20260421T092115
CREATED:20260316T232032Z
LAST-MODIFIED:20260419T203027Z
UID:221-1778954400-1778972400@www.claytongolfnm.com
SUMMARY:2026 Pickup Party
DESCRIPTION:Tickets now available! $150 includes: Entry for 2\, meals\, and your chance of winning door prizes\, raffles\, and $10\,000. \n\n\n\nAsk any Golf Club member or talk with Bob at Swagerty Lumber (23 Court St.\, Clayton) from 9:00 to 12:30 for your ticket.  \n\n\n\nOnly 200 tickets will be sold – grab yours now!!!
URL:https://www.claytongolfnm.com/event/2026-pickup-party/
LOCATION:Clayton Civic Center\, 149 N. Front St.\, Clayton\, New Mexico\, 88415
END:VEVENT
BEGIN:VEVENT
DTSTART;TZID=America/Denver:20260423T080000
DTEND;TZID=America/Denver:20260425T190000
DTSTAMP:20260421T092115
CREATED:20260419T201612Z
LAST-MODIFIED:20260419T201615Z
UID:248-1776931200-1777143600@www.claytongolfnm.com
SUMMARY:***Closed for Aeration***
DESCRIPTION:Clayton Municipal Golf Course will be closed for Aeration from April 23 through April 25.
URL:https://www.claytongolfnm.com/event/closed-for-aeration/
END:VEVENT
BEGIN:VEVENT
DTSTART;TZID=America/Denver:20260411T100000
DTEND;TZID=America/Denver:20260411T170000
DTSTAMP:20260421T092115
CREATED:20260330T184747Z
LAST-MODIFIED:20260330T185654Z
UID:235-1775901600-1775926800@www.claytongolfnm.com
SUMMARY:Early Bird Golf Tournament
DESCRIPTION:Two Person Scramble (sign up starting @ 10:00 with 10:45 tee off) \n\n\n\n$100 Entry Fee per Team ($10 mulligan per player & Skins)
URL:https://www.claytongolfnm.com/event/early-bird-golf-tournament/
END:VEVENT
END:VCALENDAR